BEGIN:VCALENDAR
VERSION:2.0
PRODID:-//Labor Guild - ECPv6.15.18//NONSGML v1.0//EN
CALSCALE:GREGORIAN
METHOD:PUBLISH
X-ORIGINAL-URL:https://laborguild.com
X-WR-CALDESC:Events for Labor Guild
REFRESH-INTERVAL;VALUE=DURATION:PT1H
X-Robots-Tag:noindex
X-PUBLISHED-TTL:PT1H
BEGIN:VTIMEZONE
TZID:America/New_York
BEGIN:DAYLIGHT
TZOFFSETFROM:-0500
TZOFFSETTO:-0400
TZNAME:EDT
DTSTART:20240310T070000
END:DAYLIGHT
BEGIN:STANDARD
TZOFFSETFROM:-0400
TZOFFSETTO:-0500
TZNAME:EST
DTSTART:20241103T060000
END:STANDARD
BEGIN:DAYLIGHT
TZOFFSETFROM:-0500
TZOFFSETTO:-0400
TZNAME:EDT
DTSTART:20250309T070000
END:DAYLIGHT
BEGIN:STANDARD
TZOFFSETFROM:-0400
TZOFFSETTO:-0500
TZNAME:EST
DTSTART:20251102T060000
END:STANDARD
BEGIN:DAYLIGHT
TZOFFSETFROM:-0500
TZOFFSETTO:-0400
TZNAME:EDT
DTSTART:20260308T070000
END:DAYLIGHT
BEGIN:STANDARD
TZOFFSETFROM:-0400
TZOFFSETTO:-0500
TZNAME:EST
DTSTART:20261101T060000
END:STANDARD
END:VTIMEZONE
BEGIN:VEVENT
DTSTART;TZID=America/New_York:20251007T180000
DTEND;TZID=America/New_York:20251104T190000
DTSTAMP:20260421T053121
CREATED:20250805T162330Z
LAST-MODIFIED:20250808T155605Z
UID:10000592-1759860000-1762282800@laborguild.com
SUMMARY:Basic Steward Training
DESCRIPTION:Virtual Tuesdays 9/9/25-10/7/25- Course Description: This course will cover the basic duties and responsibilities of a Shop Steward. Building your skills by emphasizing strategic planning for local unions\, member mobilization\, recording documentation\, and the grievance process. Students will participate in case studies to develop and enhance problem-solving techniques to navigate through daily issues swiftly and professionally. Students will also build more effective skills to communicate between trades as well as with their members\, foreman\, supervisors\, and/or business managers. To make the course more meaningful\, students should bring their own ideas for discussion. It is recommended but not a requirement. \nInstructor: Tom Breslin has been involved in Labor Education since the mid-1980s while a graduate student at the University of Minnesota where he was an adjunct instructor in the Labor Education Service. In addition\, he served as the Labor Studies Coordinator in the St. Paul\, MN public schools teaching Labor History and Labor topics to junior and senior high school students. He has been a Labor Educator at both the Minnesota Nurses Association as well as the Massachusetts Nurses Association. Following his retirement from the MNA\, he began teaching at the Labor Guild. \n\n\nInstructed By: Tom Breslin\, Retired Associate Director of Labor Education\, Massachusetts Nurses Association\n\n\n\n\n\n\n\n 
URL:https://laborguild.com/event/basic-steward-training/2025-10-07/
LOCATION:Virtual Event
CATEGORIES:School of Labor-Management Relations
ATTACH;FMTTYPE=image/jpeg:https://laborguild.com/wp-content/uploads/2024/04/Labor-School-Spring-24-Basic-Steward-Training-80.jpg
END:VEVENT
BEGIN:VEVENT
DTSTART;TZID=America/New_York:20251008T180000
DTEND;TZID=America/New_York:20251105T190000
DTSTAMP:20260421T053121
CREATED:20250805T165334Z
LAST-MODIFIED:20250808T144609Z
UID:10000607-1759946400-1762369200@laborguild.com
SUMMARY:Understanding\, Reviewing\, and Amending Bylaws
DESCRIPTION:Virtual Wednesdays- 9/10/2025-10/8/2025- Your Union Bylaws – Do they really say what you think they say on important issues: who is the ultimate authority in the union; who gets to interpret the bylaws when it’s necessary; when does custom or past practice matter; what happens when your bylaws are silent on a potentially-divisive issue\, what mandates from Robert’s Rules kick in when your bylaws are silent; what belongs in policies versus bylaws? Refine your bylaws to avoid conflicts or complications because of missing or poorly-framed language. This workshop will teach you to review\, evaluate\, and amend your bylaws with confidence and ease. The materials provided will be invaluable reference tools for anyone serving in a leadership role and is responsible to membership and to any member interested in the effectiveness of their governance documents.
URL:https://laborguild.com/event/understanding-reviewing-and-amending-bylaws/2025-10-08/
LOCATION:Virtual Event
CATEGORIES:School of Labor-Management Relations
ATTACH;FMTTYPE=image/png:https://laborguild.com/wp-content/uploads/2023/09/Reviewing-bylaws-2023.png
END:VEVENT
BEGIN:VEVENT
DTSTART;TZID=America/New_York:20251015T180000
DTEND;TZID=America/New_York:20251112T200000
DTSTAMP:20260421T053121
CREATED:20250805T165438Z
LAST-MODIFIED:20251021T185050Z
UID:10000608-1760551200-1762977600@laborguild.com
SUMMARY:Union Meetings and Robert’s Rules
DESCRIPTION:Whether you want to become a more effective and respected Chair\, or a more confident and impactful participant\, we’ll put Robert’s Rules Order to work to achieve more effective and democratic union meetings.  We’ll review both the basics of Robert’s Rules of Order (making motions\, debate\, and voting). You will learn how Robert’s Rules of Order interfaces with your union’s bylaws\, special rules of order\, standing rules\, and past practice\, as well as labor law.  Other issues we will discuss will be special meetings\, executive session\, electronic meetings\, rules for committees and small boards (yes\, they are different from membership meetings!)\, members ex-officio\, and more.  You will also find the materials distributed in this course invaluable meeting tools as you attend or run your union meetings.
URL:https://laborguild.com/event/union-meetings-and-roberts-rules/2025-10-15/
LOCATION:Virtual Event
CATEGORIES:School of Labor-Management Relations
ATTACH;FMTTYPE=image/jpeg:https://laborguild.com/wp-content/uploads/2024/01/roberts-rules.jpg
END:VEVENT
BEGIN:VEVENT
DTSTART;TZID=America/New_York:20251021T180000
DTEND;TZID=America/New_York:20251125T200000
DTSTAMP:20260421T053121
CREATED:20250811T153258Z
LAST-MODIFIED:20251021T185020Z
UID:10000609-1761069600-1764100800@laborguild.com
SUMMARY:Sold Out-Advanced Steward Training
DESCRIPTION:This course will build on the skills students developed in the Basic Steward Training course by emphasizing Strategic Planning for local unions\, members mobilization\, and problem-solving techniques and member mobilization skills. To make the course more meaningful\, students should bring their own ideas for discussion. It is a prerequisite that students have completed the Basic Steward Training course. \nIt is a prerequisite that students will have completed the Basic Steward Training course. \nObjectives: \n\nStudents will enhance their grievance handling and grievance investigation skills.\nStudents will develop skills around Member Mobilization.\nStudents will learn skills to assist their union in Strategic Planning.\nStudents will improve their understanding of the role of the union steward in the union Organizing model.\n\nInstructed By: Tom Breslin\, Retired Associate Director of Labor Education\, Massachusetts Nurses Association
URL:https://laborguild.com/event/advanced-steward-training/
LOCATION:Virtual Event
CATEGORIES:School of Labor-Management Relations
ATTACH;FMTTYPE=image/jpeg:https://laborguild.com/wp-content/uploads/2022/08/Advanced-Steward-Training.jpg
END:VEVENT
END:VCALENDAR