BEGIN:VCALENDAR
VERSION:2.0
PRODID:-//Labor Guild - ECPv6.15.18//NONSGML v1.0//EN
CALSCALE:GREGORIAN
METHOD:PUBLISH
X-ORIGINAL-URL:https://laborguild.com
X-WR-CALDESC:Events for Labor Guild
REFRESH-INTERVAL;VALUE=DURATION:PT1H
X-Robots-Tag:noindex
X-PUBLISHED-TTL:PT1H
BEGIN:VTIMEZONE
TZID:America/New_York
BEGIN:DAYLIGHT
TZOFFSETFROM:-0500
TZOFFSETTO:-0400
TZNAME:EDT
DTSTART:20250309T070000
END:DAYLIGHT
BEGIN:STANDARD
TZOFFSETFROM:-0400
TZOFFSETTO:-0500
TZNAME:EST
DTSTART:20251102T060000
END:STANDARD
BEGIN:DAYLIGHT
TZOFFSETFROM:-0500
TZOFFSETTO:-0400
TZNAME:EDT
DTSTART:20260308T070000
END:DAYLIGHT
BEGIN:STANDARD
TZOFFSETFROM:-0400
TZOFFSETTO:-0500
TZNAME:EST
DTSTART:20261101T060000
END:STANDARD
BEGIN:DAYLIGHT
TZOFFSETFROM:-0500
TZOFFSETTO:-0400
TZNAME:EDT
DTSTART:20270314T070000
END:DAYLIGHT
BEGIN:STANDARD
TZOFFSETFROM:-0400
TZOFFSETTO:-0500
TZNAME:EST
DTSTART:20271107T060000
END:STANDARD
END:VTIMEZONE
BEGIN:VEVENT
DTSTART;TZID=America/New_York:20260317T180000
DTEND;TZID=America/New_York:20260428T200000
DTSTAMP:20260420T121143
CREATED:20260106T141446Z
LAST-MODIFIED:20260106T151924Z
UID:10000622-1773770400-1777406400@laborguild.com
SUMMARY:Union Power Tools and Media Skills with Ashley Adams
DESCRIPTION:This course will cover the basics of increasing the power of a local union as well as the skills necessary for a positive public union campaign. \nSpecifically\, we will address the following  subjects: \n\nCreating a vibrant communications network\, and the one-on-one communications  necessary for effective outreach and recruitment.\nListening skills\nFighting like a boxer: training\, sparring\, easy fights\, tune up fights\, and championship fights.\nLeadership identification and recruitment.\nRunning effective meetings.\nStaging events for maximum media impact.\nHow to talk to the news media. Presentation and interview skills.\n\nThe text we will rely on is UNION POWER TOOLS\, by Ashley Adams. It’s available in print form from Amazon (all profits donated to Labor Guild and New England Jewish Labor Committee). \nInstructed by: Ashley Adams \nOrganizer\, Trainer\, Negotiator\, Massachusetts Teachers Association (Retired)
URL:https://laborguild.com/event/union-power-tools-and-media-skills-with-ashley-adams/
LOCATION:Virtual Event
CATEGORIES:School of Labor-Management Relations
ATTACH;FMTTYPE=image/webp:https://laborguild.com/wp-content/uploads/2026/01/Union-Power-Tools-Labor-School-Winter-2026.webp
END:VEVENT
BEGIN:VEVENT
DTSTART;TZID=America/New_York:20260505T180000
DTEND;TZID=America/New_York:20260602T200000
DTSTAMP:20260420T121143
CREATED:20260202T184939Z
LAST-MODIFIED:20260202T184939Z
UID:10000626-1778004000-1780430400@laborguild.com
SUMMARY:Union Meetings and Robert's Rules with Patti Legault-Frank
DESCRIPTION:Whether you want to become a more effective and respected Chair\, or a more confident and impactful participant\, we’ll put Robert’s Rules Order to work to achieve more effective and democratic union meetings.  We’ll review both the basics of Robert’s Rules of Order (making motions\, debate\, and voting). You will learn how Robert’s Rules of Order interfaces with your union’s bylaws\, special rules of order\, standing rules\, and past practice\, as well as labor law.  Other issues we will discuss will be special meetings\, executive session\, electronic meetings\, rules for committees and small boards (yes\, they are different from membership meetings!)\, members ex-officio\, and more.  You will also find the materials distributed in this course invaluable meeting tools as you attend or run your union meetings.
URL:https://laborguild.com/event/union-meetings-and-roberts-rules-with-patti-legault-frank/
LOCATION:Virtual Event
CATEGORIES:School of Labor-Management Relations
ATTACH;FMTTYPE=image/jpeg:https://laborguild.com/wp-content/uploads/2024/01/roberts-rules.jpg
END:VEVENT
END:VCALENDAR